BEGIN:VCALENDAR
VERSION:2.0
PRODID:-//wp-events-plugin.com//7.2.3.1//EN
TZID:America/Chicago
X-WR-TIMEZONE:America/Chicago
BEGIN:VEVENT
UID:5403@familyfuntwincities.com
DTSTART;TZID=America/Chicago:20260320T173000
DTEND;TZID=America/Chicago:20260320T193000
DTSTAMP:20260219T190105Z
URL:https://www.familyfuntwincities.com/events/zanewood-family-fun/
SUMMARY:Anti-Violence Youth and Family Game Night (FREE)
DESCRIPTION:Bring the family for a fun evening of games in a welcoming spac
 e. Play board games\, card games and video games together. There will be f
 ood\, raffles and prizes. RSVP for planning purposes.\n\n
CATEGORIES:*Family Fun Calendar,$0 - Free Family Fun Calendar,Age 11-18:
 Teen/Tween (Grades 7-12),Age 5-12: Grade School Events (K-6),Area:
 Northwest Metro Events,Indoor Games, Board Games &amp; Puzzle Events
LOCATION:Zanewood Recreation Center\, 7100 Zanewood Avenue North\, Brooklyn
  Park\, MN\, 55429\, United States
X-APPLE-STRUCTURED-LOCATION;VALUE=URI;X-ADDRESS=7100 Zanewood Avenue North\
 , Brooklyn Park\, MN\, 55429\, United States;X-APPLE-RADIUS=100;X-TITLE=Za
 newood Recreation Center:geo:0,0
END:VEVENT
BEGIN:VTIMEZONE
TZID:America/Chicago
X-LIC-LOCATION:America/Chicago
BEGIN:DAYLIGHT
DTSTART:20260308T030000
TZOFFSETFROM:-0600
TZOFFSETTO:-0500
TZNAME:CDT
END:DAYLIGHT
END:VTIMEZONE
END:VCALENDAR