BEGIN:VCALENDAR
VERSION:2.0
PRODID:-//wp-events-plugin.com//7.2.3.1//EN
TZID:America/Chicago
X-WR-TIMEZONE:America/Chicago
BEGIN:VEVENT
UID:5715@familyfuntwincities.com
DTSTART;TZID=America/Chicago:20260424T103000
DTEND;TZID=America/Chicago:20260424T110000
DTSTAMP:20260417T074837Z
URL:https://www.familyfuntwincities.com/events/woodbury-rh-stafford-librar
 y-family-events/
SUMMARY:Family ROCK! (FREE)
DESCRIPTION:The RH Stafford branch of the Washington County Library is loca
 ted within Woodbury's lovely indoor Central Park. We track free kids and f
 amily library events here and on our Family Fun Calendar.\nUpcoming events
  at Woodbury RH Stafford Library\n\n 	April 24: Family ROCK! - Royal Order
  of Chords and Keys (R.O.C.K.) presents a free program of original song an
 d dance with takes on classic children's music. Shakers\, scarves and bubb
 les included. Best for families with kids birth-5 years and FREE!\n\nMore 
 information\n\n 	Event link: RH Stafford Library events calendar\n
CATEGORIES:*Family Fun Calendar,$0 - Free Family Fun Calendar,Age 0-2:
 Baby/Toddler Events,Age 2-5: Toddler/Preschool Events,Area: Southeast
 Metro Events
LOCATION:RH Stafford Library\, 8595 Central Park Pl\, Woodbury\, MN\, 55125
 \, United States
GEO:44.916568;-92.932162
X-APPLE-STRUCTURED-LOCATION;VALUE=URI;X-ADDRESS=8595 Central Park Pl\, Wood
 bury\, MN\, 55125\, United States;X-APPLE-RADIUS=100;X-TITLE=RH Stafford L
 ibrary:geo:44.916568,-92.932162
END:VEVENT
BEGIN:VTIMEZONE
TZID:America/Chicago
X-LIC-LOCATION:America/Chicago
BEGIN:DAYLIGHT
DTSTART:20260308T030000
TZOFFSETFROM:-0600
TZOFFSETTO:-0500
TZNAME:CDT
END:DAYLIGHT
END:VTIMEZONE
END:VCALENDAR