BEGIN:VCALENDAR
VERSION:2.0
PRODID:-//wp-events-plugin.com//7.2.3.1//EN
TZID:America/Chicago
X-WR-TIMEZONE:America/Chicago
BEGIN:VEVENT
UID:5669@familyfuntwincities.com
DTSTART;TZID=America/Chicago:20260419T083000
DTEND;TZID=America/Chicago:20260419T123000
DTSTAMP:20260410T103917Z
URL:https://www.familyfuntwincities.com/events/waconia-spring-pancake-brea
 kfast-fire-truck-rides/
SUMMARY:Waconia Spring Pancake Breakfast & Fire Truck Rides
DESCRIPTION:\n\nPancakes plus fire trucks\, could you ask for a better Sund
 ay? Your breakfast ticket includes a ride on a real fire truck - sure to b
 e a thrill for big rig lovers young and old. Tickets $12/person\, 5 and un
 der eat free.\n\n🚒🚒🚒🚒🚒🚒🚒🚒🚒🚒🚒🚒🚒🚒
 🚒🚒🚒🚒🚒🚒🚒🚒🚒🚒🚒🚒🚒\n\n\n
CATEGORIES:*Family Fun Calendar,$10-$20 - Moderately Priced Events,Age
 2-5: Toddler/Preschool Events,Age 5-12: Grade School Events (K-6),Area:
 Southwest Metro Events,Fire Trucks &amp; Firefighters,Touch-A-Truck
 Calendar
LOCATION:Waconia Fire Station\, 10451 W. 10th St\, Waconia\, MN\, United St
 ates
X-APPLE-STRUCTURED-LOCATION;VALUE=URI;X-ADDRESS=10451 W. 10th St\, Waconia\
 , MN\, United States;X-APPLE-RADIUS=100;X-TITLE=Waconia Fire Station:geo:0
 ,0
END:VEVENT
BEGIN:VTIMEZONE
TZID:America/Chicago
X-LIC-LOCATION:America/Chicago
BEGIN:DAYLIGHT
DTSTART:20260308T030000
TZOFFSETFROM:-0600
TZOFFSETTO:-0500
TZNAME:CDT
END:DAYLIGHT
END:VTIMEZONE
END:VCALENDAR