BEGIN:VCALENDAR
VERSION:2.0
PRODID:-//wp-events-plugin.com//7.2.3.1//EN
TZID:America/Chicago
X-WR-TIMEZONE:America/Chicago
BEGIN:VEVENT
UID:5716@familyfuntwincities.com
DTSTART;TZID=America/Chicago:20260428T103000
DTEND;TZID=America/Chicago:20260428T110000
DTSTAMP:20260421T053845Z
URL:https://www.familyfuntwincities.com/events/storytime-art-cart-park-gro
 ve-library/
SUMMARY:Park Grove Storytime & Art Cart (FREE)
DESCRIPTION:Park Grove Library's special storytime centers around themes su
 ch as life skills\, community\, family\, emotions and the importance of be
 ing kind. Activities with the Art Cart will follow with crafts appropriate
  for kids ages 2-5. Caregivers get to participate during the program\; no 
 need to register\, just drop in.\n\n
CATEGORIES:*Family Fun Calendar,$0 - Free Family Fun Calendar,Age 2-5:
 Toddler/Preschool Events,Area: Southeast Metro Events,Story Times
LOCATION:Park Grove Library\, 7900 Hemingway Ave S\, Cottage Grove\, MN\, 5
 5016\, United States
GEO:44.83481;-92.953718
X-APPLE-STRUCTURED-LOCATION;VALUE=URI;X-ADDRESS=7900 Hemingway Ave S\, Cott
 age Grove\, MN\, 55016\, United States;X-APPLE-RADIUS=100;X-TITLE=Park Gro
 ve Library:geo:44.83481,-92.953718
END:VEVENT
BEGIN:VTIMEZONE
TZID:America/Chicago
X-LIC-LOCATION:America/Chicago
BEGIN:DAYLIGHT
DTSTART:20260308T030000
TZOFFSETFROM:-0600
TZOFFSETTO:-0500
TZNAME:CDT
END:DAYLIGHT
END:VTIMEZONE
END:VCALENDAR