BEGIN:VCALENDAR
VERSION:2.0
PRODID:-//wp-events-plugin.com//7.2.3.1//EN
TZID:America/Chicago
X-WR-TIMEZONE:America/Chicago
BEGIN:VEVENT
UID:5609@familyfuntwincities.com
DTSTART;TZID=America/Chicago;VALUE=DATE:20260422
DTEND;TZID=America/Chicago;VALUE=DATE:20260427
DTSTAMP:20260401T191112Z
URL:https://www.familyfuntwincities.com/events/stop-by-eat-my-words-to-get
 -your-free-independent-bookstore-passport/
SUMMARY:Stop by Eat My Words to get your FREE Independent Bookstore Passpor
 t
DESCRIPTION:Eat My words is participating in the Independent Bookstore Pass
 port program. Pick up your passport and get your first stamp anytime betwe
 en Wednesday\, April 22 to Sunday April 26\, 2026.\n\n
CATEGORIES:Independent Bookstore Day
LOCATION:Eat My Words Bookstore\, 201 Sixth Street SE\, Suite 220\, Minneap
 olis\, MN\, 55414\, United States
X-APPLE-STRUCTURED-LOCATION;VALUE=URI;X-ADDRESS=201 Sixth Street SE\, Suite
  220\, Minneapolis\, MN\, 55414\, United States;X-APPLE-RADIUS=100;X-TITLE
 =Eat My Words Bookstore:geo:0,0
END:VEVENT
BEGIN:VTIMEZONE
TZID:America/Chicago
X-LIC-LOCATION:America/Chicago
BEGIN:DAYLIGHT
DTSTART:20260308T030000
TZOFFSETFROM:-0600
TZOFFSETTO:-0500
TZNAME:CDT
END:DAYLIGHT
END:VTIMEZONE
END:VCALENDAR