BEGIN:VCALENDAR
VERSION:2.0
PRODID:-//wp-events-plugin.com//7.2.3.1//EN
TZID:America/Chicago
X-WR-TIMEZONE:America/Chicago
BEGIN:VEVENT
UID:5633@familyfuntwincities.com
DTSTART;TZID=America/Chicago:20260517T100000
DTEND;TZID=America/Chicago:20260517T151000
DTSTAMP:20260406T205422Z
URL:https://www.familyfuntwincities.com/events/st-peter-lutheran-maifest/
SUMMARY:St Peter Lutheran Maifest
DESCRIPTION:Celebrate Spring with St. Peter Lutheran Church in Waterton dur
 ing its annual Maifest. Enjoy live entertainment a kids Spielplatz (playgr
 ound) and food and beverages for purchase.\n\n
CATEGORIES:Area: Outside the Metro,Spring Festivals
LOCATION:St. Peter Lutheran Church\, 3030 Navajo Avenue\, Watertown\, MN\, 
 55388\, United States
X-APPLE-STRUCTURED-LOCATION;VALUE=URI;X-ADDRESS=3030 Navajo Avenue\, Watert
 own\, MN\, 55388\, United States;X-APPLE-RADIUS=100;X-TITLE=St. Peter Luth
 eran Church:geo:0,0
END:VEVENT
BEGIN:VTIMEZONE
TZID:America/Chicago
X-LIC-LOCATION:America/Chicago
BEGIN:DAYLIGHT
DTSTART:20260308T030000
TZOFFSETFROM:-0600
TZOFFSETTO:-0500
TZNAME:CDT
END:DAYLIGHT
END:VTIMEZONE
END:VCALENDAR