BEGIN:VCALENDAR
VERSION:2.0
PRODID:-//wp-events-plugin.com//7.2.3.1//EN
TZID:America/Chicago
X-WR-TIMEZONE:America/Chicago
BEGIN:VEVENT
UID:5727@familyfuntwincities.com
DTSTART;TZID=America/Chicago:20260502T130000
DTEND;TZID=America/Chicago:20260502T150000
DTSTAMP:20260419T022247Z
URL:https://www.familyfuntwincities.com/events/spring-fling-archery-2/
SUMMARY:Spring Fling Archery
DESCRIPTION:Register for a fun afternoon of archery\, including beginner in
 struction\, challenges and games. Equipment provided. Ages 8+. $12/pp. Res
 ervations are required.\n\n
CATEGORIES:*Family Fun Calendar,$10-$20 - Moderately Priced Events,Age
 11-18: Teen/Tween (Grades 7-12),Age 5-12: Grade School Events
 (K-6),Archery Ranges around the Twin Cities,Area: Southwest Metro Events
LOCATION:Cedar Lake Farm Regional Park\, 25875 Juniper Avenue\, New Prague\
 , MN\, 56071\, United States
GEO:44.574634;-93.529952
X-APPLE-STRUCTURED-LOCATION;VALUE=URI;X-ADDRESS=25875 Juniper Avenue\, New 
 Prague\, MN\, 56071\, United States;X-APPLE-RADIUS=100;X-TITLE=Cedar Lake 
 Farm Regional Park:geo:44.574634,-93.529952
END:VEVENT
BEGIN:VTIMEZONE
TZID:America/Chicago
X-LIC-LOCATION:America/Chicago
BEGIN:DAYLIGHT
DTSTART:20260308T030000
TZOFFSETFROM:-0600
TZOFFSETTO:-0500
TZNAME:CDT
END:DAYLIGHT
END:VTIMEZONE
END:VCALENDAR