BEGIN:VCALENDAR
VERSION:2.0
PRODID:-//wp-events-plugin.com//7.2.3.1//EN
TZID:America/Chicago
X-WR-TIMEZONE:America/Chicago
BEGIN:VEVENT
UID:3147@familyfuntwincities.com
DTSTART;TZID=America/Chicago:20250723T170000
DTEND;TZID=America/Chicago:20250723T190000
DTSTAMP:20250721T071900Z
URL:https://www.familyfuntwincities.com/events/south-st-paul-splish-splash
 -bash/
SUMMARY:Splish Splash Bash (FREE)
DESCRIPTION:Don't miss out on this summer's giant\, 250-foot slip 'n slide 
 in South St Paul! Plus inflatables\, food trucks\, a kids dance party and 
 more. Pre-register at South St Paul City Hall starting July 7-16 at noon a
 nd skip the slide's waiver line! Admission is free - note\, this is a resc
 hedule from July 16.\nMore information\n\n 	Event link: South St Paul Spli
 sh Splash Bash\n
CATEGORIES:*Family Fun Calendar,$0 - Free Family Fun Calendar,Age 2-5:
 Toddler/Preschool Events,Age 5-12: Grade School Events (K-6),Area:
 Southeast Metro Events
LOCATION:Jefferson Park\, 125 21st Ave N\, South St Paul\, MN\, 55075\, Uni
 ted States
X-APPLE-STRUCTURED-LOCATION;VALUE=URI;X-ADDRESS=125 21st Ave N\, South St P
 aul\, MN\, 55075\, United States;X-APPLE-RADIUS=100;X-TITLE=Jefferson Park
 :geo:0,0
END:VEVENT
BEGIN:VTIMEZONE
TZID:America/Chicago
X-LIC-LOCATION:America/Chicago
BEGIN:DAYLIGHT
DTSTART:20250309T030000
TZOFFSETFROM:-0600
TZOFFSETTO:-0500
TZNAME:CDT
END:DAYLIGHT
END:VTIMEZONE
END:VCALENDAR