BEGIN:VCALENDAR
VERSION:2.0
PRODID:-//wp-events-plugin.com//7.2.3.1//EN
TZID:America/Chicago
X-WR-TIMEZONE:America/Chicago
BEGIN:VEVENT
UID:5631@familyfuntwincities.com
DTSTART;TZID=America/Chicago:20260516T110000
DTEND;TZID=America/Chicago:20260517T180000
DTSTAMP:20260406T153030Z
URL:https://www.familyfuntwincities.com/events/songkran-festival/
SUMMARY:Songkran Festival
DESCRIPTION:Celebrating the Thai New Year at Songkran Festival. This event 
 includes live music and cultural performances\, fun photo ops\, authentic 
 Thai street foods and a market including Thai products and handmade gifts\
 , and a traditional new year blessing. FREE. All Ages. Drop In.\n\n
CATEGORIES:*Family Fun Calendar,$0 - Free Family Fun Calendar,Age 11-18:
 Teen/Tween (Grades 7-12),Age 5-12: Grade School Events (K-6),Area:
 Southwest Metro Events,Fairs &amp; Festivals,Spring Festivals
LOCATION:Wat Promwachirayan\, 2544 Highway 100 South\, St Louis Park\, MN\,
  55416\, United States
X-APPLE-STRUCTURED-LOCATION;VALUE=URI;X-ADDRESS=2544 Highway 100 South\, St
  Louis Park\, MN\, 55416\, United States;X-APPLE-RADIUS=100;X-TITLE=Wat Pr
 omwachirayan:geo:0,0
END:VEVENT
BEGIN:VTIMEZONE
TZID:America/Chicago
X-LIC-LOCATION:America/Chicago
BEGIN:DAYLIGHT
DTSTART:20260308T030000
TZOFFSETFROM:-0600
TZOFFSETTO:-0500
TZNAME:CDT
END:DAYLIGHT
END:VTIMEZONE
END:VCALENDAR