BEGIN:VCALENDAR
VERSION:2.0
PRODID:-//wp-events-plugin.com//7.2.3.1//EN
TZID:America/Chicago
X-WR-TIMEZONE:America/Chicago
BEGIN:VEVENT
UID:3200@familyfuntwincities.com
DTSTART;TZID=America/Chicago:20260608T100000
DTEND;TZID=America/Chicago:20260608T104500
DTSTAMP:20260306T034658Z
URL:https://www.familyfuntwincities.com/events/shoreview-library/
SUMMARY:Todd'n'Tina Concert (FREE)
DESCRIPTION:Enjoy a concert by local kids band\, Todd'n'Tina and enjoy musi
 c from their latest album plus favorites from past albums.\n\n
CATEGORIES:$0 - Free Family Fun Calendar,Age 2-5: Toddler/Preschool
 Events,Age 5-12: Grade School Events (K-6),Area: Northeast Metro
 Events,Kid-Friendly Concerts
LOCATION:Shoreview Library\, 4560 Victoria Steet North\, Shoreview\, MN\, 5
 5126\, United States
X-APPLE-STRUCTURED-LOCATION;VALUE=URI;X-ADDRESS=4560 Victoria Steet North\,
  Shoreview\, MN\, 55126\, United States;X-APPLE-RADIUS=100;X-TITLE=Shorevi
 ew Library:geo:0,0
END:VEVENT
BEGIN:VTIMEZONE
TZID:America/Chicago
X-LIC-LOCATION:America/Chicago
BEGIN:DAYLIGHT
DTSTART:20260308T030000
TZOFFSETFROM:-0600
TZOFFSETTO:-0500
TZNAME:CDT
END:DAYLIGHT
END:VTIMEZONE
END:VCALENDAR