BEGIN:VCALENDAR
VERSION:2.0
PRODID:-//wp-events-plugin.com//7.2.3.1//EN
TZID:America/Chicago
X-WR-TIMEZONE:America/Chicago
BEGIN:VEVENT
UID:3865@familyfuntwincities.com
DTSTART;TZID=America/Chicago:20260423T090000
DTEND;TZID=America/Chicago:20260423T110000
DTSTAMP:20260417T032650Z
URL:https://www.familyfuntwincities.com/events/savage-sports-center-tot-ti
 me-thursday/
SUMMARY:Savage Sports Center Tot Time
DESCRIPTION:At Savage Sport Center's Tot Time\, toddlers and preschoolers a
 ges 6 &amp\; under can play on inflatables\, throw balls\, hit with bats\,
  and more\, all equipment provided. Cost is $3/child\, adults free. Pre-pa
 id play passes are available.\n2026 Savage Tot Time schedule\n\n 	Thursday
 s\, November 6\, 2025 - April 30\, 2026\, 9-11am.\n 	Closed November 27\, 
 December 25\, January 1\n 	Also held Tuesdays\n\n
CATEGORIES:*Family Fun Calendar,$1-$10 - Budget Friendly Calendar,Age 0-2:
 Baby/Toddler Events,Age 2-5: Toddler/Preschool Events,Area: Southwest
 Metro Events,Tot Times
LOCATION:Savage Sports Center\, 13450 Dakota Ave S\, Savage\, MN \, 55378\,
  United States
GEO:44.757594;-93.365138
X-APPLE-STRUCTURED-LOCATION;VALUE=URI;X-ADDRESS=13450 Dakota Ave S\, Savage
 \, MN \, 55378\, United States;X-APPLE-RADIUS=100;X-TITLE=Savage Sports Ce
 nter:geo:44.757594,-93.365138
END:VEVENT
BEGIN:VTIMEZONE
TZID:America/Chicago
X-LIC-LOCATION:America/Chicago
BEGIN:DAYLIGHT
DTSTART:20260308T030000
TZOFFSETFROM:-0600
TZOFFSETTO:-0500
TZNAME:CDT
END:DAYLIGHT
END:VTIMEZONE
END:VCALENDAR