BEGIN:VCALENDAR
VERSION:2.0
PRODID:-//wp-events-plugin.com//7.2.3.1//EN
TZID:America/Chicago
X-WR-TIMEZONE:America/Chicago
BEGIN:VEVENT
UID:5431@familyfuntwincities.com
DTSTART;TZID=America/Chicago:20260308T140000
DTEND;TZID=America/Chicago:20260308T150000
DTSTAMP:20260225T031113Z
URL:https://www.familyfuntwincities.com/events/river-valley-community-orch
 estra-presents-shall-we-dance/
SUMMARY:River Valley Community Orchestra Presents: Shall We Dance?
DESCRIPTION:River Valley Community Orchestra encourages families and kids t
 o attend this concert featuring fun\, energetic pieces that will make you 
 want to dance. FREE. No Tickets Required. All Ages.\n\n
CATEGORIES:*Family Fun Calendar,*Performing Arts Calendar,$0 - Free Family
 Fun Calendar,Age 11-18: Teen/Tween (Grades 7-12),Age 5-12: Grade School
 Events (K-6),Area: Southeast Metro Events
LOCATION:Hastings High School\, 200 General Sieben Drive\, Hastings\, MN\, 
 55033\, United States
X-APPLE-STRUCTURED-LOCATION;VALUE=URI;X-ADDRESS=200 General Sieben Drive\, 
 Hastings\, MN\, 55033\, United States;X-APPLE-RADIUS=100;X-TITLE=Hastings 
 High School:geo:0,0
END:VEVENT
BEGIN:VTIMEZONE
TZID:America/Chicago
X-LIC-LOCATION:America/Chicago
BEGIN:DAYLIGHT
DTSTART:20260308T030000
TZOFFSETFROM:-0600
TZOFFSETTO:-0500
TZNAME:CDT
END:DAYLIGHT
END:VTIMEZONE
END:VCALENDAR