BEGIN:VCALENDAR
VERSION:2.0
PRODID:-//wp-events-plugin.com//7.2.3.1//EN
TZID:America/Chicago
X-WR-TIMEZONE:America/Chicago
BEGIN:VEVENT
UID:3177@familyfuntwincities.com
DTSTART;TZID=America/Chicago:20260808T110000
DTEND;TZID=America/Chicago:20260808T130000
DTSTAMP:20260405T105722Z
URL:https://www.familyfuntwincities.com/events/ridgedale-carnival-in-the-c
 ommons/
SUMMARY:Minnetonka Carnival in the Commons
DESCRIPTION:A fun\, family-friendly event at Ridgedale Commons with DJ &amp
 \; music\, a bouncy house\, face painting and yard games.\n\n
CATEGORIES:*Family Fun Calendar,$0 - Free Family Fun Calendar,Age 2-5:
 Toddler/Preschool Events,Age 5-12: Grade School Events (K-6),Area:
 Southwest Metro Events
LOCATION:Ridgedale Commons\, 12590 Ridgedale Drive\, Minnetonka\, MN\, 5530
 5\, United States
X-APPLE-STRUCTURED-LOCATION;VALUE=URI;X-ADDRESS=12590 Ridgedale Drive\, Min
 netonka\, MN\, 55305\, United States;X-APPLE-RADIUS=100;X-TITLE=Ridgedale 
 Commons:geo:0,0
END:VEVENT
BEGIN:VTIMEZONE
TZID:America/Chicago
X-LIC-LOCATION:America/Chicago
BEGIN:DAYLIGHT
DTSTART:20260308T030000
TZOFFSETFROM:-0600
TZOFFSETTO:-0500
TZNAME:CDT
END:DAYLIGHT
END:VTIMEZONE
END:VCALENDAR