BEGIN:VCALENDAR
VERSION:2.0
PRODID:-//wp-events-plugin.com//7.2.3.1//EN
TZID:America/Chicago
X-WR-TIMEZONE:America/Chicago
BEGIN:VEVENT
UID:5083@familyfuntwincities.com
DTSTART;TZID=America/Chicago:20260124T100000
DTEND;TZID=America/Chicago:20260124T140000
DTSTAMP:20260112T115405Z
URL:https://www.familyfuntwincities.com/events/richardson-ice-harvesting-d
 ay/
SUMMARY:Richardson Ice Harvesting Day (FREE)
DESCRIPTION:At Bloomington's Ice Harvesting Day\, learn how ice was traditi
 onally harvested as part of the city's annual winter festival. Cut and wei
 gh ice blocks\, try a kicksled\, learn how food was historically preserved
  and more icy activities. Dress for Minnesota winter on ice. Activities on
  the ice are weather dependent and will be modified for safety. Note: this
  is a free\, very popular event.\n\n
CATEGORIES:*Family Fun Calendar,$0 - Free Family Fun Calendar,Age 11-18:
 Teen/Tween (Grades 7-12),Age 5-12: Grade School Events (K-6),Area:
 Southwest Metro Events,Fairs &amp; Festivals,Winter Festivals
LOCATION:Richardson Nature Center\, 8737 E Bush Lake Rd\, Bloomington\, MN\
 , 55438\, United States
X-APPLE-STRUCTURED-LOCATION;VALUE=URI;X-ADDRESS=8737 E Bush Lake Rd\, Bloom
 ington\, MN\, 55438\, United States;X-APPLE-RADIUS=100;X-TITLE=Richardson 
 Nature Center:geo:0,0
END:VEVENT
BEGIN:VTIMEZONE
TZID:America/Chicago
X-LIC-LOCATION:America/Chicago
BEGIN:STANDARD
DTSTART:20251102T010000
TZOFFSETFROM:-0500
TZOFFSETTO:-0600
TZNAME:CST
END:STANDARD
END:VTIMEZONE
END:VCALENDAR