BEGIN:VCALENDAR
VERSION:2.0
PRODID:-//wp-events-plugin.com//7.2.3.1//EN
TZID:America/Chicago
X-WR-TIMEZONE:America/Chicago
BEGIN:VEVENT
UID:5093@familyfuntwincities.com
DTSTART;TZID=America/Chicago:20260418T160000
DTEND;TZID=America/Chicago:20260418T180000
DTSTAMP:20260404T055255Z
URL:https://www.familyfuntwincities.com/events/red-balloon-bookshop-specia
 l-events/
SUMMARY:Author V.T. Bidania Visits The Red Balloon (FREE)
DESCRIPTION:Red Balloon Bookshop often invites family-friendly authors and 
 organizations to drop in with special storytimes and other free programmin
 g. Here's what's coming up on their event calendar for kids:\n\n
CATEGORIES:*Family Fun Calendar,$0 - Free Family Fun Calendar,Area: Saint
 Paul
LOCATION:Red Balloon Bookshop\, 891 Grand Avenue\, Saint Paul\, MN \, 55105
 \, United States
GEO:44.940223;-93.137778
X-APPLE-STRUCTURED-LOCATION;VALUE=URI;X-ADDRESS=891 Grand Avenue\, Saint Pa
 ul\, MN \, 55105\, United States;X-APPLE-RADIUS=100;X-TITLE=Red Balloon Bo
 okshop:geo:44.940223,-93.137778
END:VEVENT
BEGIN:VTIMEZONE
TZID:America/Chicago
X-LIC-LOCATION:America/Chicago
BEGIN:DAYLIGHT
DTSTART:20260308T030000
TZOFFSETFROM:-0600
TZOFFSETTO:-0500
TZNAME:CDT
END:DAYLIGHT
END:VTIMEZONE
END:VCALENDAR