BEGIN:VCALENDAR
VERSION:2.0
PRODID:-//wp-events-plugin.com//7.2.3.1//EN
TZID:America/Chicago
X-WR-TIMEZONE:America/Chicago
BEGIN:VEVENT
UID:5652@familyfuntwincities.com
DTSTART;TZID=America/Chicago:20260501T163000
DTEND;TZID=America/Chicago:20260501T190000
DTSTAMP:20260417T054033Z
URL:https://www.familyfuntwincities.com/events/neighbor-night/
SUMMARY:Neighbor Night (FREE)
DESCRIPTION:Join your neighbors for a FREE family-friendly event featuring 
 a free dinner\, community-building activities\, and tons of fun. Best for 
 families with kids in grade school and under. Registration requested. Free
  rides from Metro Transit available.\n\n
CATEGORIES:*Family Fun Calendar,$0 - Free Family Fun Calendar,Age 11-18:
 Teen/Tween (Grades 7-12),Age 5-12: Grade School Events (K-6),Area: Saint
 Paul
LOCATION:Community Education Center at J.J. Hill\, 998 Selby Avenue\, Saint
  Paul\, MN\, 55104\, United States
X-APPLE-STRUCTURED-LOCATION;VALUE=URI;X-ADDRESS=998 Selby Avenue\, Saint Pa
 ul\, MN\, 55104\, United States;X-APPLE-RADIUS=100;X-TITLE=Community Educa
 tion Center at J.J. Hill:geo:0,0
END:VEVENT
BEGIN:VTIMEZONE
TZID:America/Chicago
X-LIC-LOCATION:America/Chicago
BEGIN:DAYLIGHT
DTSTART:20260308T030000
TZOFFSETFROM:-0600
TZOFFSETTO:-0500
TZNAME:CDT
END:DAYLIGHT
END:VTIMEZONE
END:VCALENDAR