BEGIN:VCALENDAR
VERSION:2.0
PRODID:-//wp-events-plugin.com//7.2.3.1//EN
TZID:America/Chicago
X-WR-TIMEZONE:America/Chicago
BEGIN:VEVENT
UID:3736@familyfuntwincities.com
DTSTART;TZID=America/Chicago:20251010T170000
DTEND;TZID=America/Chicago:20251010T190000
DTSTAMP:20250918T021807Z
URL:https://www.familyfuntwincities.com/events/mississippi-gateway-howl-o-
 ween/
SUMMARY:Mississippi Gateway Howl-O-Ween
DESCRIPTION:Bring your dog to celebrate Howl-O-Ween at Mississippi Gateway 
 Regional Dog Park\, including Pawtography\, three-minute Caricatures (brin
 g a photo)\, pup cups and treat bags for the first 100 dogs\, access to th
 e off-leash area\, and live music!\n\n
CATEGORIES:*Family Fun Calendar,$0 - Free Family Fun Calendar,Age 11-18:
 Teen/Tween (Grades 7-12),Age 5-12: Grade School Events (K-6),Bring the
 Family Dog,Halloween Free Events
LOCATION:Mississippi Gateway Regional Dog Park\, 10126 W River Road\, Brook
 lyn Park\, MN\, 55444\, United States
X-APPLE-STRUCTURED-LOCATION;VALUE=URI;X-ADDRESS=10126 W River Road\, Brookl
 yn Park\, MN\, 55444\, United States;X-APPLE-RADIUS=100;X-TITLE=Mississipp
 i Gateway Regional Dog Park:geo:0,0
END:VEVENT
BEGIN:VTIMEZONE
TZID:America/Chicago
X-LIC-LOCATION:America/Chicago
BEGIN:DAYLIGHT
DTSTART:20250309T030000
TZOFFSETFROM:-0600
TZOFFSETTO:-0500
TZNAME:CDT
END:DAYLIGHT
END:VTIMEZONE
END:VCALENDAR