BEGIN:VCALENDAR
VERSION:2.0
PRODID:-//wp-events-plugin.com//7.2.3.1//EN
TZID:America/Chicago
X-WR-TIMEZONE:America/Chicago
BEGIN:VEVENT
UID:5492@familyfuntwincities.com
DTSTART;TZID=America/Chicago:20260321T100000
DTEND;TZID=America/Chicago:20260321T150000
DTSTAMP:20260310T003051Z
URL:https://www.familyfuntwincities.com/events/minnesota-childrens-museum-
 train-fest/
SUMMARY:Minnesota Children's Museum: Train Fest
DESCRIPTION:Train Fest at MCM celebrates the Thomas &amp\; Friends: Explore
  the Rails special exhibit with a day full of train-themed activities\, in
 cluding a dance party\, story time with Engineer Paul from Choo Choo Bob
 ’s Train Store\, and a scavenger hunt. Upgrade your ticket for extra spe
 cial activities and snacks.\n\nMinnesota Children's Museum offers special 
 events throughout the year. These events require regular museum admission*
 *. Tickets: $19.95/pp.\n\n\n\n
CATEGORIES:$10-$20 - Moderately Priced Events,Age 0-2: Baby/Toddler
 Events,Age 2-5: Toddler/Preschool Events,Area: Saint Paul,Train Lovers
LOCATION:Minnesota Children's Museum\, 10 West Seventh Street\, Saint Paul\
 , MN \, 55102\, United States
X-APPLE-STRUCTURED-LOCATION;VALUE=URI;X-ADDRESS=10 West Seventh Street\, Sa
 int Paul\, MN \, 55102\, United States;X-APPLE-RADIUS=100;X-TITLE=Minnesot
 a Children's Museum:geo:0,0
END:VEVENT
BEGIN:VTIMEZONE
TZID:America/Chicago
X-LIC-LOCATION:America/Chicago
BEGIN:DAYLIGHT
DTSTART:20260308T030000
TZOFFSETFROM:-0600
TZOFFSETTO:-0500
TZNAME:CDT
END:DAYLIGHT
END:VTIMEZONE
END:VCALENDAR