BEGIN:VCALENDAR
VERSION:2.0
PRODID:-//wp-events-plugin.com//7.2.3.1//EN
TZID:America/Chicago
X-WR-TIMEZONE:America/Chicago
BEGIN:VEVENT
UID:5677@familyfuntwincities.com
DTSTART;TZID=America/Chicago:20260516T190000
DTEND;TZID=America/Chicago:20260620T200000
DTSTAMP:20260420T014047Z
URL:https://www.familyfuntwincities.com/events/minnesota-aurora-2026-seaso
 n-home-game/
SUMMARY:Minnesota Aurora 2026 Season Home Games
DESCRIPTION:Minnesota Aurora Home Games can be a fun place to bring kids fo
 r a night of sports and community. Tickets $22.50+/pp. Kids 3 and under FR
 EE.\n\n
CATEGORIES:$20+ Splurge Calendar
LOCATION:TCO Stadium\, 2600 Vikings Circle\, Eagan\, MN\, 55121\, United St
 ates
X-APPLE-STRUCTURED-LOCATION;VALUE=URI;X-ADDRESS=2600 Vikings Circle\, Eagan
 \, MN\, 55121\, United States;X-APPLE-RADIUS=100;X-TITLE=TCO Stadium:geo:0
 ,0
END:VEVENT
BEGIN:VTIMEZONE
TZID:America/Chicago
X-LIC-LOCATION:America/Chicago
BEGIN:DAYLIGHT
DTSTART:20260308T030000
TZOFFSETFROM:-0600
TZOFFSETTO:-0500
TZNAME:CDT
END:DAYLIGHT
END:VTIMEZONE
END:VCALENDAR