BEGIN:VCALENDAR
VERSION:2.0
PRODID:-//wp-events-plugin.com//7.2.3.1//EN
TZID:America/Chicago
X-WR-TIMEZONE:America/Chicago
BEGIN:VEVENT
UID:5712@familyfuntwincities.com
DTSTART;TZID=America/Chicago:20260421T090000
DTEND;TZID=America/Chicago:20260421T210000
DTSTAMP:20260421T054006Z
URL:https://www.familyfuntwincities.com/events/mendota-heights-find-the-fr
 og-earth-week/
SUMMARY:Mendota Heights Find the Frog (FREE)
DESCRIPTION:Lily the Frog is hiding near a trail in one of 13 Mendota Heigh
 ts parks - can you figure out which one? (Hint: She doesn't hop locations\
 ; she'll stick around the same park April 20-27.) Solve the puzzle and ent
 er to win an Earth &amp\; Arbor Day gift basket.\n\n
CATEGORIES:*Family Fun Calendar,$0 - Free Family Fun Calendar,Arbor
 Day,Area: Southeast Metro Events,Earth Day,Hunts &amp; Quests
LOCATION:Mendota Heights parks (see link)\, Mendota Heights\, MN\, United S
 tates
X-APPLE-STRUCTURED-LOCATION;VALUE=URI;X-ADDRESS=Mendota Heights\, MN\, Unit
 ed States;X-APPLE-RADIUS=100;X-TITLE=Mendota Heights parks (see link):geo:
 0,0
END:VEVENT
BEGIN:VTIMEZONE
TZID:America/Chicago
X-LIC-LOCATION:America/Chicago
BEGIN:DAYLIGHT
DTSTART:20260308T030000
TZOFFSETFROM:-0600
TZOFFSETTO:-0500
TZNAME:CDT
END:DAYLIGHT
END:VTIMEZONE
END:VCALENDAR