BEGIN:VCALENDAR
VERSION:2.0
PRODID:-//wp-events-plugin.com//7.2.3.1//EN
TZID:America/Chicago
X-WR-TIMEZONE:America/Chicago
BEGIN:VEVENT
UID:5714@familyfuntwincities.com
DTSTART;TZID=America/Chicago:20260424T130000
DTEND;TZID=America/Chicago:20260424T140000
DTSTAMP:20260417T072921Z
URL:https://www.familyfuntwincities.com/events/mendota-heights-earth-week-
 live-raptor-show/
SUMMARY:Earth Week Live Raptor Show (FREE)
DESCRIPTION:Earth &amp\; Arbor Week in Mendota Heights wraps up with a Rapt
 or Encounters live show at Mendakota Park. The presentation shows off 3 di
 fferent live raptors and a bald eagle. Consider bringing a blanket to sit 
 on.\n\n
CATEGORIES:*Family Fun Calendar,$0 - Free Family Fun Calendar,Age 11-18:
 Teen/Tween (Grades 7-12),Age 2-5: Toddler/Preschool Events,Age 5-12: Grade
 School Events (K-6),Area: Southeast Metro Events,Earth Day
LOCATION:Mendakota Park\, 2111 Dodd Road\,  Mendota Heights\, MN\, 55118\, 
 United States
X-APPLE-STRUCTURED-LOCATION;VALUE=URI;X-ADDRESS=2111 Dodd Road\,  Mendota H
 eights\, MN\, 55118\, United States;X-APPLE-RADIUS=100;X-TITLE=Mendakota P
 ark:geo:0,0
END:VEVENT
BEGIN:VTIMEZONE
TZID:America/Chicago
X-LIC-LOCATION:America/Chicago
BEGIN:DAYLIGHT
DTSTART:20260308T030000
TZOFFSETFROM:-0600
TZOFFSETTO:-0500
TZNAME:CDT
END:DAYLIGHT
END:VTIMEZONE
END:VCALENDAR