BEGIN:VCALENDAR
VERSION:2.0
PRODID:-//wp-events-plugin.com//7.2.3.1//EN
TZID:America/Chicago
X-WR-TIMEZONE:America/Chicago
BEGIN:VEVENT
UID:5730@familyfuntwincities.com
DTSTART;TZID=America/Chicago:20260425T120000
DTEND;TZID=America/Chicago:20260425T170000
DTSTAMP:20260420T083955Z
URL:https://www.familyfuntwincities.com/events/irreverent-indie-bookstore-
 day/
SUMMARY:Irreverent Indie Bookstore Day
DESCRIPTION:Add the cozy Irreverent Bookworm to your Independent Bookstore 
 Day journey. Get your passport stamped\, grab a snack and take a break in
   comfy chair.\nFamily fun at Indie Bookstore Day\n\n 	Giveaways\n 	Free 
 snack &amp\; beverage\n 	Visit the Rent Relief Bake Sale next door for kid
 s' activities\, face painting and coloring\, plus bake sale items availabl
 e to purchase (bring cash).\n\n
CATEGORIES:*Family Fun Calendar,Age 11-18: Teen/Tween (Grades 7-12),Area:
 Minneapolis,Independent Bookstore Day
LOCATION:The Irreverent Bookworm\, 5163 Bloomington Ave S.outh\, Minneapoli
 s\, MN\, 55417\, United States
X-APPLE-STRUCTURED-LOCATION;VALUE=URI;X-ADDRESS=5163 Bloomington Ave S.outh
 \, Minneapolis\, MN\, 55417\, United States;X-APPLE-RADIUS=100;X-TITLE=The
  Irreverent Bookworm:geo:0,0
END:VEVENT
BEGIN:VTIMEZONE
TZID:America/Chicago
X-LIC-LOCATION:America/Chicago
BEGIN:DAYLIGHT
DTSTART:20260308T030000
TZOFFSETFROM:-0600
TZOFFSETTO:-0500
TZNAME:CDT
END:DAYLIGHT
END:VTIMEZONE
END:VCALENDAR