BEGIN:VCALENDAR
VERSION:2.0
PRODID:-//wp-events-plugin.com//7.2.3.1//EN
TZID:America/Chicago
X-WR-TIMEZONE:America/Chicago
BEGIN:VEVENT
UID:5653@familyfuntwincities.com
DTSTART;TZID=America/Chicago:20260425T060000
DTEND;TZID=America/Chicago:20260425T220000
DTSTAMP:20260408T191410Z
URL:https://www.familyfuntwincities.com/events/international-sculpture-day
 /
SUMMARY:Celebrate International Sculpture Day at Local Parks
DESCRIPTION:Family Fun Idea: Celebrate International Sculpture Day at your 
 favorite local sculpture park. This annual holiday is celebrated on the la
 st Saturday in April.\n\nWe have more than a handful of sculpture parks wi
 thin the Twin Cities metro featuring beautiful and unusual sculptures in n
 atural outdoor settings. Bonus\, many of these parks are also dedicated to
  sustainability and conservation of natural resources with special stormwa
 ter management and native plants incorporated into their beautiful landsca
 pes. Learn More: 12 Minnesota Sculpture Parks to Visit with Kids.\n\n
CATEGORIES:*Family Fun Calendar,$0 - Free Family Fun Calendar
END:VEVENT
BEGIN:VTIMEZONE
TZID:America/Chicago
X-LIC-LOCATION:America/Chicago
BEGIN:DAYLIGHT
DTSTART:20260308T030000
TZOFFSETFROM:-0600
TZOFFSETTO:-0500
TZNAME:CDT
END:DAYLIGHT
END:VTIMEZONE
END:VCALENDAR