BEGIN:VCALENDAR
VERSION:2.0
PRODID:-//wp-events-plugin.com//7.2.3.1//EN
TZID:America/Chicago
X-WR-TIMEZONE:America/Chicago
BEGIN:VEVENT
UID:5094@familyfuntwincities.com
DTSTART;TZID=America/Chicago:20260110T160000
DTEND;TZID=America/Chicago:20260111T163500
DTSTAMP:20260110T182230Z
URL:https://www.familyfuntwincities.com/events/illuminating-sound-a-shadow
 -puppet-and-music-show/
SUMMARY:Illuminating Sound: A Shadow Puppet and Music Show
DESCRIPTION:"An innovative shadow puppet and music performance that blends 
 live music and visual storytelling to explore the cyclical nature of time\
 , the creation and destruction of the world\, and humanity's impact on the
  environment." All Ages. Tickets $10.00.\n\n&nbsp\;
CATEGORIES:*Performing Arts Calendar
LOCATION:The Southern Theater\, 1420 South Washington Avenue\, Minneapolis\
 , MN\, 55454\, United States
X-APPLE-STRUCTURED-LOCATION;VALUE=URI;X-ADDRESS=1420 South Washington Avenu
 e\, Minneapolis\, MN\, 55454\, United States;X-APPLE-RADIUS=100;X-TITLE=Th
 e Southern Theater:geo:0,0
END:VEVENT
BEGIN:VTIMEZONE
TZID:America/Chicago
X-LIC-LOCATION:America/Chicago
BEGIN:STANDARD
DTSTART:20251102T010000
TZOFFSETFROM:-0500
TZOFFSETTO:-0600
TZNAME:CST
END:STANDARD
END:VTIMEZONE
END:VCALENDAR