BEGIN:VCALENDAR
VERSION:2.0
PRODID:-//wp-events-plugin.com//7.2.3.1//EN
TZID:America/Chicago
X-WR-TIMEZONE:America/Chicago
BEGIN:VEVENT
UID:1816@familyfuntwincities.com
DTSTART;TZID=America/Chicago:20260423T190000
DTEND;TZID=America/Chicago:20260423T210000
DTSTAMP:20260327T031742Z
URL:https://www.familyfuntwincities.com/events/hopkins-depot-all-ages-open
 -mic/
SUMMARY:Hopkins Depot All-Ages Open Mic (FREE)
DESCRIPTION:Drop in to support community artists and performers during this
  monthly all-ages Open Mic Night held on fourth Thursdays\, September thro
 ugh May.\n\n
CATEGORIES:*Family Fun Calendar,*Performing Arts Calendar,$0 - Free Family
 Fun Calendar,Age 11-18: Teen/Tween (Grades 7-12),Age 5-12: Grade School
 Events (K-6),Area: Southwest Metro Events
LOCATION:The Depot\, 9451 Excelsior Boulevard\, Hopkins\, MN\, 55343\, Unit
 ed States
GEO:44.923736;-93.399277
X-APPLE-STRUCTURED-LOCATION;VALUE=URI;X-ADDRESS=9451 Excelsior Boulevard\, 
 Hopkins\, MN\, 55343\, United States;X-APPLE-RADIUS=100;X-TITLE=The Depot:
 geo:44.923736,-93.399277
END:VEVENT
BEGIN:VTIMEZONE
TZID:America/Chicago
X-LIC-LOCATION:America/Chicago
BEGIN:DAYLIGHT
DTSTART:20260308T030000
TZOFFSETFROM:-0600
TZOFFSETTO:-0500
TZNAME:CDT
END:DAYLIGHT
END:VTIMEZONE
END:VCALENDAR