BEGIN:VCALENDAR
VERSION:2.0
PRODID:-//wp-events-plugin.com//7.2.3.1//EN
TZID:America/Chicago
X-WR-TIMEZONE:America/Chicago
BEGIN:VEVENT
UID:5110@familyfuntwincities.com
DTSTART;TZID=America/Chicago;VALUE=DATE:20260615
DTEND;TZID=America/Chicago;VALUE=DATE:20260809
DTSTAMP:20260116T073522Z
URL:https://www.familyfuntwincities.com/events/hi-five-sports-camp/
SUMMARY:Hi-Five Sports Camp 
DESCRIPTION:Summer camps consist of up to 12 different team sports every we
 ek. Camp hours are 9am-3pm for ages 5-12. Sessions run Monday-Friday\, 9am
 -3pm. $375/week - $3\,000/8 weeks.\n\n
CATEGORIES:Summer Camp: Active &amp; Sports,Summer Camps
LOCATION:Hi-Five Sports Zone\, 8251 Flying Cloud Dr Suite 1058\, Eden Prair
 ie\, MN\, 55344\, United States
X-APPLE-STRUCTURED-LOCATION;VALUE=URI;X-ADDRESS=8251 Flying Cloud Dr Suite 
 1058\, Eden Prairie\, MN\, 55344\, United States;X-APPLE-RADIUS=100;X-TITL
 E=Hi-Five Sports Zone:geo:0,0
END:VEVENT
BEGIN:VTIMEZONE
TZID:America/Chicago
X-LIC-LOCATION:America/Chicago
BEGIN:DAYLIGHT
DTSTART:20260308T030000
TZOFFSETFROM:-0600
TZOFFSETTO:-0500
TZNAME:CDT
END:DAYLIGHT
END:VTIMEZONE
END:VCALENDAR