BEGIN:VCALENDAR
VERSION:2.0
PRODID:-//wp-events-plugin.com//7.2.3.1//EN
TZID:America/Chicago
X-WR-TIMEZONE:America/Chicago
BEGIN:VEVENT
UID:5085@familyfuntwincities.com
DTSTART;TZID=America/Chicago:20260613T103000
DTEND;TZID=America/Chicago:20260614T163000
DTSTAMP:20260109T181555Z
URL:https://www.familyfuntwincities.com/events/great-northern-viking-festi
 val/
SUMMARY:Great Northern Viking Festival
DESCRIPTION:Designed to be welcoming and enjoyable for families\, The Great
  Northern Viking Festival is a weekend of immersive entertainment and enga
 ging educational demonstrations. Day Passes: $8-$25/pp. Pre-purchase ticke
 ts to save. Kids 7 and under FREE.\n\nBest Day to Visit: Sunday is Family 
 Day and includes more kid-focused programming and hands-on activities for 
 children.\n\n
CATEGORIES:Area: Greater Minnesota &amp; Beyond,Fairs &amp; Festivals,June
 Festivals
LOCATION:McGowan Farm Festival Grounds\, 20002 T-198\, Mankato\, MN\, 56001
 \, United States
X-APPLE-STRUCTURED-LOCATION;VALUE=URI;X-ADDRESS=20002 T-198\, Mankato\, MN\
 , 56001\, United States;X-APPLE-RADIUS=100;X-TITLE=McGowan Farm Festival G
 rounds:geo:0,0
END:VEVENT
BEGIN:VTIMEZONE
TZID:America/Chicago
X-LIC-LOCATION:America/Chicago
BEGIN:DAYLIGHT
DTSTART:20260308T030000
TZOFFSETFROM:-0600
TZOFFSETTO:-0500
TZNAME:CDT
END:DAYLIGHT
END:VTIMEZONE
END:VCALENDAR