BEGIN:VCALENDAR
VERSION:2.0
PRODID:-//wp-events-plugin.com//7.2.3.1//EN
TZID:America/Chicago
X-WR-TIMEZONE:America/Chicago
BEGIN:VEVENT
UID:5661@familyfuntwincities.com
DTSTART;TZID=America/Chicago:20260425T103000
DTEND;TZID=America/Chicago:20260425T123000
DTSTAMP:20260417T053748Z
URL:https://www.familyfuntwincities.com/events/free-family-workshop-make-a
 -wearable-art-car-for-the-mayday-parade/
SUMMARY:FREE Family Workshop: Make a Wearable Art Car for the MayDay Parade
 !
DESCRIPTION:Register the family to take part in a free workshop making card
 board "ArtCars" to participate in the Minneapolis MayDay Parade with ArtCa
 rs and ArtBikes led by artists Kallie Melvin and Tara Fahey. Then\, bring 
 your ArtCart to march in the MayDay Parade on May 3rd in Powderhorn Park.\
 n\nFree event\, but space is limited. Register at the Link below. Some mat
 erial will be free and participants will get a 10% discount on any additio
 nal materials purchased at nearby ArtScraps.\n\n
CATEGORIES:*Family Fun Calendar,$0 - Free Family Fun Calendar,Area: Saint
 Paul
LOCATION:Fairmount Avenue United Methodist Church\, 1523 Fairmount Ave\, St
  Paul\, MN\, 55105\, United States
X-APPLE-STRUCTURED-LOCATION;VALUE=URI;X-ADDRESS=1523 Fairmount Ave\, St Pau
 l\, MN\, 55105\, United States;X-APPLE-RADIUS=100;X-TITLE=Fairmount Avenue
  United Methodist Church:geo:0,0
END:VEVENT
BEGIN:VTIMEZONE
TZID:America/Chicago
X-LIC-LOCATION:America/Chicago
BEGIN:DAYLIGHT
DTSTART:20260308T030000
TZOFFSETFROM:-0600
TZOFFSETTO:-0500
TZNAME:CDT
END:DAYLIGHT
END:VTIMEZONE
END:VCALENDAR