BEGIN:VCALENDAR
VERSION:2.0
PRODID:-//wp-events-plugin.com//7.2.3.1//EN
TZID:America/Chicago
X-WR-TIMEZONE:America/Chicago
BEGIN:VEVENT
UID:3201@familyfuntwincities.com
DTSTART;TZID=America/Chicago:20250731T100000
DTEND;TZID=America/Chicago:20250731T153000
DTSTAMP:20250802T060644Z
URL:https://www.familyfuntwincities.com/events/fish-lake-regional-park/
SUMMARY:Try It: Bugs Up Close (FREE)
DESCRIPTION:Join a Three Rivers naturalist to learn about what makes insect
 s unique and beautiful. Then get hands on\, learning techniques for  gent
 le capture in a net or jar\, while you capture\, identify and then release
  bugs living around the park.\n\nTwo Sessions: 10-11:30am or 2-3:30pm\n\n
CATEGORIES:*Family Fun Calendar,$0 - Free Family Fun Calendar,Age 5-12:
 Grade School Events (K-6),Area: Northwest Metro Events
LOCATION:Fish Lake Regional Park\, 14900 Bass Lake Road \, Maple Grove\, MN
 \, 55311\, United States
X-APPLE-STRUCTURED-LOCATION;VALUE=URI;X-ADDRESS=14900 Bass Lake Road \, Map
 le Grove\, MN\, 55311\, United States;X-APPLE-RADIUS=100;X-TITLE=Fish Lake
  Regional Park:geo:0,0
END:VEVENT
BEGIN:VTIMEZONE
TZID:America/Chicago
X-LIC-LOCATION:America/Chicago
BEGIN:DAYLIGHT
DTSTART:20250309T030000
TZOFFSETFROM:-0600
TZOFFSETTO:-0500
TZNAME:CDT
END:DAYLIGHT
END:VTIMEZONE
END:VCALENDAR