BEGIN:VCALENDAR
VERSION:2.0
PRODID:-//wp-events-plugin.com//7.2.3.1//EN
TZID:America/Chicago
X-WR-TIMEZONE:America/Chicago
BEGIN:VEVENT
UID:5089@familyfuntwincities.com
DTSTART;TZID=America/Chicago:20260214T193000
DTEND;TZID=America/Chicago:20260214T203000
DTSTAMP:20260214T232303Z
URL:https://www.familyfuntwincities.com/events/finger-puppet-follies-a-val
 entines-day-puppet-slam/
SUMMARY:Finger Puppet Follies: A Valentine's Day Puppet Slam!
DESCRIPTION:A silly Finger Puppet cabaret for Valentines weekend. Fabulous
  MCs will host\, and musicians will provide additional entertainment. Tick
 et $10-$25/pp.\nShowtimes: February 13 &amp\; 14\, 2026 | 7:30 pm\n\n
CATEGORIES:*Performing Arts Calendar,$10-$20 - Moderately Priced
 Events,Area: Minneapolis,Valentine Events
LOCATION:In The Heart of the Beast Puppet Theatre\, 2411 Hennepin Avenue\, 
 Minneapolis\, MN\, 55405\, United States
X-APPLE-STRUCTURED-LOCATION;VALUE=URI;X-ADDRESS=2411 Hennepin Avenue\, Minn
 eapolis\, MN\, 55405\, United States;X-APPLE-RADIUS=100;X-TITLE=In The Hea
 rt of the Beast Puppet Theatre:geo:0,0
END:VEVENT
BEGIN:VTIMEZONE
TZID:America/Chicago
X-LIC-LOCATION:America/Chicago
BEGIN:STANDARD
DTSTART:20251102T010000
TZOFFSETFROM:-0500
TZOFFSETTO:-0600
TZNAME:CST
END:STANDARD
END:VTIMEZONE
END:VCALENDAR