BEGIN:VCALENDAR
VERSION:2.0
PRODID:-//wp-events-plugin.com//7.2.3.1//EN
TZID:America/Chicago
X-WR-TIMEZONE:America/Chicago
BEGIN:VEVENT
UID:5729@familyfuntwincities.com
DTSTART;TZID=America/Chicago:20260425T093000
DTEND;TZID=America/Chicago:20260425T123000
DTSTAMP:20260419T103906Z
URL:https://www.familyfuntwincities.com/events/coon-rapids-emma-b-howe-ymc
 a-events/
SUMMARY:Spring Into Wellness Family Fun Event (FREE)
DESCRIPTION:Free and open to members of the community! Come by the YMCA Coo
 n Rapids location for a spring wellness event. Activities include a child 
 safety workshop (9:45am)\, kids yoga (10:30am)\, and music and puppets (11
 am). Plus community resource tables and more.\n\nMore information\n\n 	Eve
 nt link: Anoka County events calendar\n
CATEGORIES:*Family Fun Calendar,$0 - Free Family Fun Calendar,Age 2-5:
 Toddler/Preschool Events,Age 5-12: Grade School Events (K-6),Area:
 Northwest Metro Events
LOCATION:Emma B Howe YMCA\, 8950 Springbrook Dr NW\, Coon Rapids\, MN\, 554
 33\, United States
X-APPLE-STRUCTURED-LOCATION;VALUE=URI;X-ADDRESS=8950 Springbrook Dr NW\, Co
 on Rapids\, MN\, 55433\, United States;X-APPLE-RADIUS=100;X-TITLE=Emma B H
 owe YMCA:geo:0,0
END:VEVENT
BEGIN:VTIMEZONE
TZID:America/Chicago
X-LIC-LOCATION:America/Chicago
BEGIN:DAYLIGHT
DTSTART:20260308T030000
TZOFFSETFROM:-0600
TZOFFSETTO:-0500
TZNAME:CDT
END:DAYLIGHT
END:VTIMEZONE
END:VCALENDAR