BEGIN:VCALENDAR
VERSION:2.0
PRODID:-//wp-events-plugin.com//7.2.3.1//EN
TZID:America/Chicago
X-WR-TIMEZONE:America/Chicago
BEGIN:VEVENT
UID:5690@familyfuntwincities.com
DTSTART;TZID=America/Chicago:20250609T093000
DTEND;TZID=America/Chicago:20250612T114500
DTSTAMP:20260416T163346Z
URL:https://www.familyfuntwincities.com/events/christ-lutheran-vbs/
SUMMARY:Christ Lutheran VBS
DESCRIPTION:VBS Theme: Here I stand. \nAges: Age 4-Grade 6\nPrice: FREE\nR
 egistration: Open. Register here.\nRETURN TO FULL VBS LIST\n
CATEGORIES:Vacation Bible School
LOCATION:Christ Lutheran Church\, 1930 Diffley Road\, Eagan\, MN\, 55122\, 
 United States
X-APPLE-STRUCTURED-LOCATION;VALUE=URI;X-ADDRESS=1930 Diffley Road\, Eagan\,
  MN\, 55122\, United States;X-APPLE-RADIUS=100;X-TITLE=Christ Lutheran Chu
 rch:geo:0,0
END:VEVENT
BEGIN:VTIMEZONE
TZID:America/Chicago
X-LIC-LOCATION:America/Chicago
BEGIN:DAYLIGHT
DTSTART:20250309T030000
TZOFFSETFROM:-0600
TZOFFSETTO:-0500
TZNAME:CDT
END:DAYLIGHT
END:VTIMEZONE
END:VCALENDAR