BEGIN:VCALENDAR
VERSION:2.0
PRODID:-//wp-events-plugin.com//7.2.3.1//EN
TZID:America/Chicago
X-WR-TIMEZONE:America/Chicago
BEGIN:VEVENT
UID:2293@familyfuntwincities.com
DTSTART;TZID=America/Chicago:20250731T160000
DTEND;TZID=America/Chicago:20250731T190000
DTSTAMP:20250725T081355Z
URL:https://www.familyfuntwincities.com/events/champlin-big-trucks-cool-st
 uff-free/
SUMMARY:Champlin Big Trucks & Cool Stuff (FREE)
DESCRIPTION:Climb inside Champlin's Public Works trucks\, fire truck and po
 lice cars\, plus check out other cool stuff at this free community event! 
 Parking available at the nearby Ice Forum.\n\n🚒🚒🚒🚒🚒🚒🚒
 🚒🚒🚒🚒🚒🚒🚒🚒🚒🚒🚒🚒🚒🚒🚒🚒🚒🚒
 🚒🚒\n\n
CATEGORIES:*Family Fun Calendar,$0 - Free Family Fun Calendar,Area:
 Northwest Metro Events,Fire Trucks &amp; Firefighters,Touch-A-Truck
 Calendar
LOCATION:Champlin Parks & Public Works\, Champlin Park &amp\; Recreation\, 
 Champlin\, MN\, 55316\, United States
GEO:45.17122;-93.392437
X-APPLE-STRUCTURED-LOCATION;VALUE=URI;X-ADDRESS=Champlin Park & Recreation\
 , Champlin\, MN\, 55316\, United States;X-APPLE-RADIUS=100;X-TITLE=Champli
 n Parks & Public Works:geo:45.17122,-93.392437
END:VEVENT
BEGIN:VTIMEZONE
TZID:America/Chicago
X-LIC-LOCATION:America/Chicago
BEGIN:DAYLIGHT
DTSTART:20250309T030000
TZOFFSETFROM:-0600
TZOFFSETTO:-0500
TZNAME:CDT
END:DAYLIGHT
END:VTIMEZONE
END:VCALENDAR