BEGIN:VCALENDAR
VERSION:2.0
PRODID:-//wp-events-plugin.com//7.2.3.1//EN
TZID:America/Chicago
X-WR-TIMEZONE:America/Chicago
BEGIN:VEVENT
UID:2152@familyfuntwincities.com
DTSTART;TZID=America/Chicago:20260424T190000
DTEND;TZID=America/Chicago:20260424T210000
DTSTAMP:20260419T045630Z
URL:https://www.familyfuntwincities.com/events/big-air-burnsville-events/
SUMMARY:Big Air Burnsville Cosmic Glow Night
DESCRIPTION:The Twin Cities Southeast Metro welcomes its newest trampoline 
 adventure park\, Big Air Burnsville! There are tons of cool attractions (b
 ouncing\, ninja-ing\, interactive challenging) and themed events we're kee
 ping track of right here. Tickets: $27.99 &amp\; up.\n\n
CATEGORIES:*Family Fun Calendar,$20+ Splurge Calendar,Age 11-18:
 Teen/Tween (Grades 7-12),Age 5-12: Grade School Events (K-6),Area:
 Southeast Metro Events
LOCATION:Big Air Burnsville\, 14290 Plymouth Ave\, Burnsville\, MN \,  553
 37\, United States
GEO:44.742962;-93.274474
X-APPLE-STRUCTURED-LOCATION;VALUE=URI;X-ADDRESS=14290 Plymouth Ave\, Burnsv
 ille\, MN \,  55337\, United States;X-APPLE-RADIUS=100;X-TITLE=Big Air Bu
 rnsville:geo:44.742962,-93.274474
END:VEVENT
BEGIN:VTIMEZONE
TZID:America/Chicago
X-LIC-LOCATION:America/Chicago
BEGIN:DAYLIGHT
DTSTART:20260308T030000
TZOFFSETFROM:-0600
TZOFFSETTO:-0500
TZNAME:CDT
END:DAYLIGHT
END:VTIMEZONE
END:VCALENDAR