BEGIN:VCALENDAR
VERSION:2.0
PRODID:-//wp-events-plugin.com//7.2.3.1//EN
TZID:America/Chicago
X-WR-TIMEZONE:America/Chicago
BEGIN:VEVENT
UID:2871@familyfuntwincities.com
DTSTART;TZID=America/Chicago:20251026T100000
DTEND;TZID=America/Chicago:20251026T180000
DTSTAMP:20251026T061323Z
URL:https://www.familyfuntwincities.com/events/afton-apple-corn-maze-openi
 ng-date-opening/
SUMMARY:Afton Apple Corn Maze Open
DESCRIPTION:Conditions permitting\, Afton Apple Orchard's Corn Maze will op
 en for the fall season. This includes the 15-acre\, multi-phase corn maze 
 themed "Country's Cool Again" and mini mazes such as the "no left turn" ma
 ze\, straw bale maze\, rope maze and more yard games. There's even an a Ba
 rnyard Apple Blaster! Activities for all ages. Open Fri-Sun\, 10am-6pm thr
 ough October 26. Corn maze admission $10-$12 per person\, does not include
  orchard general admission - see link for details.\n\n
CATEGORIES:*Family Fun Calendar,$1-$10 - Budget Friendly Calendar,$10-$20
 - Moderately Priced Events,Age 11-18: Teen/Tween (Grades 7-12),Age 5-12:
 Grade School Events (K-6),Area: Southeast Metro Events,Corn Mazes for
 Families
LOCATION:Afton Apple Orchard\, 14421 90th Street South\, Hastings\, MN\, 55
 033\, United States
X-APPLE-STRUCTURED-LOCATION;VALUE=URI;X-ADDRESS=14421 90th Street South\, H
 astings\, MN\, 55033\, United States;X-APPLE-RADIUS=100;X-TITLE=Afton Appl
 e Orchard:geo:0,0
END:VEVENT
BEGIN:VTIMEZONE
TZID:America/Chicago
X-LIC-LOCATION:America/Chicago
BEGIN:DAYLIGHT
DTSTART:20250309T030000
TZOFFSETFROM:-0600
TZOFFSETTO:-0500
TZNAME:CDT
END:DAYLIGHT
END:VTIMEZONE
END:VCALENDAR